BEGIN:VCALENDAR
VERSION:2.0
PRODID:icalendar-ruby
CALSCALE:GREGORIAN
METHOD:PUBLISH
BEGIN:VEVENT
DTSTAMP:20260422T100843Z
UID:14-497282@hhgcc.org
DTSTART:20260807T230000Z
DTEND:20260808T020000Z
CLASS:PUBLIC
CREATED:20260421T210409
DESCRIPTION:
LAST-MODIFIED:20260421T210409
LOCATION:5001 Fishburg Road\, Huber Heights\, OH 45424
SUMMARY:Friday Volleyball
URL;VALUE=URI:https://www.huberheightsgrace.com/events/friday-volleyball/20
 26-08-07
ATTACH;FILENAME=Friday-Saturday-Volleyball-%28Presentation%29.png;FMTTYPE=i
 mage/png:https://dq5pwpg1q8ru0.cloudfront.net/2025/03/22/17/33/14/eeb6d0bb
 -e2f9-4d5e-9c5d-ffedb394249f/Friday-Saturday-Volleyball-%2528Presentation%
 2529.png
END:VEVENT
END:VCALENDAR
