BEGIN:VCALENDAR
VERSION:2.0
PRODID:icalendar-ruby
CALSCALE:GREGORIAN
METHOD:PUBLISH
BEGIN:VEVENT
DTSTAMP:20260422T182346Z
UID:26-498808@hhgcc.org
DTSTART:20261103T230000Z
DTEND:20261104T010000Z
CLASS:PUBLIC
CREATED:20260422T135926
DESCRIPTION:
LAST-MODIFIED:20260422T135926
LOCATION:5001 Fishburg Road\, Huber Heights\, OH 45424
SUMMARY:Tuesday Pickleball
URL;VALUE=URI:https://www.huberheightsgrace.com/events/tuesday-pickleball/2
 026-11-03
ATTACH;FILENAME=Pickleball-Monday-%26-Tuesday-%28Presentation%29.png;FMTTYP
 E=image/png:https://dq5pwpg1q8ru0.cloudfront.net/2025/05/26/15/26/21/1fe6d
 ff2-f780-4f5b-aed9-5d0adda0a8b3/Pickleball-Monday-%2526-Tuesday-%2528Prese
 ntation%2529.png
END:VEVENT
END:VCALENDAR
